BEGIN:VCALENDAR
VERSION:2.0
PRODID:-//Mannix Marketing//CliftonPark.com ICS//EN
BEGIN:VEVENT
DTEND:20260420T190000
DTSTART:20260420T170000
SUMMARY:Library Board Meeting
DESCRIPTION:The board meets the 2nd Monday of each month at 5:00 pm with the following exceptions:  No meeting in August  If a holiday falls on the 2nd Monday, the meeting is on Tuesday. [Full Details at https://www.cliftonpark.com/event/library-board-meeting-273707/]
URL;VALUE=URI:https://www.cliftonpark.com/event/library-board-meeting-273707/
UID:https://www.cliftonpark.com/event/library-board-meeting-273707/
DTSTAMP:20260419T103026
ORGANIZER;CN=CliftonPark.com:X-ADDR:https://www.cliftonpark.com/event/library-board-meeting-273707/
LOCATION:
END:VEVENT
END:VCALENDAR
