BEGIN:VCALENDAR
VERSION:2.0
PRODID:-//Mannix Marketing//CliftonPark.com ICS//EN
BEGIN:VEVENT
DTEND:20260425T160000
DTSTART:20260425T100000
SUMMARY:Spring Makers Market
DESCRIPTION:Join us for a curated celebration of local makers and spring! Enjoy botanical-themed goods, hands-on workshops, interactive activities, info tables, and a planting station to welcome the season. [Full Details at https://www.cliftonpark.com/event/spring-makers-market-272792/]
URL;VALUE=URI:https://www.cliftonpark.com/event/spring-makers-market-272792/
UID:https://www.cliftonpark.com/event/spring-makers-market-272792/
DTSTAMP:20260423T135257
ORGANIZER;CN=CliftonPark.com:X-ADDR:https://www.cliftonpark.com/event/spring-makers-market-272792/
LOCATION:
END:VEVENT
END:VCALENDAR
