BEGIN:VCALENDAR
VERSION:2.0
PRODID:-//Mannix Marketing//CliftonPark.com ICS//EN
BEGIN:VEVENT
DTEND:20260521T235900
DTSTART:20260521T200000
SUMMARY:Seven Dining & Catering is featuring: Live Karaoke with Henny Jenny & the Rooster
DESCRIPTION:What day is it? THURSDAY

What are we? THIRSTY

Where should we go? SEVEN DINING & CATERING

What should we do? SING, SING, SING!!! [Full Details at https://www.cliftonpark.com/event/seven-dining-catering-is-featuring-live-karaoke-with-henny-jenny-the-rooster-271962/]
URL;VALUE=URI:https://www.cliftonpark.com/event/seven-dining-catering-is-featuring-live-karaoke-with-henny-jenny-the-rooster-271962/
UID:https://www.cliftonpark.com/event/seven-dining-catering-is-featuring-live-karaoke-with-henny-jenny-the-rooster-271962/
DTSTAMP:20260422T201829
ORGANIZER;CN=CliftonPark.com:X-ADDR:https://www.cliftonpark.com/event/seven-dining-catering-is-featuring-live-karaoke-with-henny-jenny-the-rooster-271962/
LOCATION:
END:VEVENT
END:VCALENDAR
