BEGIN:VCALENDAR
VERSION:2.0
PRODID:-//Mannix Marketing//CliftonPark.com ICS//EN
BEGIN:VEVENT
DTSTART:20260425
SUMMARY:Pass It On Spring/Summer Pop Up Retail Store
DESCRIPTION:At Pass It On you will find clothing (sizes newborn to juniors), toys, books, videos, baby equipment (strollers, swings, etc.), sports equipment, children's furniture, and more! [Full Details at https://www.cliftonpark.com/event/pass-it-on-260533/]
URL;VALUE=URI:https://www.cliftonpark.com/event/pass-it-on-260533/
UID:https://www.cliftonpark.com/event/pass-it-on-260533/
DTSTAMP:20260420T224517
ORGANIZER;CN=CliftonPark.com:X-ADDR:https://www.cliftonpark.com/event/pass-it-on-260533/
LOCATION:
END:VEVENT
END:VCALENDAR
