BEGIN:VCALENDAR
VERSION:2.0
PRODID:-//Mannix Marketing//CliftonPark.com ICS//EN
BEGIN:VEVENT
DTEND:20260425T140000
DTSTART:20260425T110000
SUMMARY:10th Annual Breyer Fun Day
DESCRIPTION:Stop in and enjoy our 10th annual Breyer Fun Day! Featuring a Breyer Model Show, Raffles, Paint your own mini Breyer model, special show sales and lots more. Share in the comradery that Breyer collect [Full Details at https://www.cliftonpark.com/event/breyer-fun-day-217081/]
URL;VALUE=URI:https://www.cliftonpark.com/event/breyer-fun-day-217081/
UID:https://www.cliftonpark.com/event/breyer-fun-day-217081/
DTSTAMP:20260421T022017
ORGANIZER;CN=CliftonPark.com:X-ADDR:https://www.cliftonpark.com/event/breyer-fun-day-217081/
LOCATION:
END:VEVENT
END:VCALENDAR
